Workbook

Sheet Лист1
C2: Проект реестра расходных обязательств Канского муниципального округа на 2026 год и плановый период 2027-2029 годы.
A4: проект | S4: рублей
A5: Код расходного обязательства | B5: Содержание расходного обязательства | C5: Коды классификации расходов бюджетов | E5: Нормативные правовые акты, договоры, соглашения РФ | H5: Нормативные правовые акты, договоры, соглашения субъекта РФ | K5: Нормативные правовые акты, договоры, соглашения муниципального образования | N5: Объем средств на исполнение расходного обязательства
C6: Код ГРБС | D6: Р/ПР | E6: Наименование и реквизиты нормативного правового акта | F6: Номер статьи (подстатьи), пункта (подпункта) | G6: Дата вступления в силу и срок действия | H6: Наименование и реквизиты нормативного правового акта | I6: Номер статьи (подстатьи), пункта (подпункта) | J6: Дата вступления в силу и срок действия | K6: Наименование и реквизиты нормативного правового акта | L6: Номер статьи (подстатьи), пункта (подпункта) | M6: Дата вступления в силу и срок действия | N6: Отчетный финансовый год | P6: Текущий (очередной) финансовый год | Q6: Плановый период
N7: план | O7: факт | P7: план | Q7: план | R7: план | S7: план
A8: 1 | B8: 2 | C8: 3 | D8: 4 | E8: 5 | F8: 6 | G8: 7 | H8: 8 | I8: 9 | J8: 10 | K8: 11 | L8: 12 | M8: 13 | N8: 14 | O8: 15 | P8: 16 | Q8: 17 | R8: 18 | S8: 19
B9: Администрация Амонашенского сельсовета Канского района Красноярского края | C9: 802 | P9: =P10 -> 1043195 | Q9: =Q10 -> 0 | R9: =R10 -> 0 | S9: =S10 -> 0
A10: 10700 | B10: Расходные обязательства, возникшие в результате принятия нормативных правовых актов муниципального округа, заключения договоров (соглашений) в рамках реализации полномочий органов местного самоуправления муниципального округа по решению вопросов местного значения муниципального округа, всего | C10: 802 | P10: =P11 -> 1043195
A11: 10701, 10702 | B11: материально-техническое и финансовое обеспечение деятельности органов местного самоуправления | C11: 802 | D11: 0104 | E11: Федеральный закон от 06.10.2003 № 131-ФЗ "Об общих принципах организации местного самоуправления в Российской Федерации" | F11: ст.34, пункт 9 ст.53, пункт 2 | G11: 01.01.2009 - не установ | H11: Закон Красноярского края от 24.04.2008 № 5-1565 "Об особенностях правового регулирования муниципальной службы в Красноярском крае" | I11: ст.в целом | J11: 01.07.2008 - не установ | K11: Устав от 24.10.2000 № 5 "Устав Амонашенского сельсовета Канского района Красноярского края " | M11: 24.10.2000 - не установ | P11: 1043195
E12: Федеральный закон от 05.03.2025 № 33-ФЗ "Об общих принципах организации местного самоуправления в единой системе публичной власти" | F12: ст. в целом | G12: 45736
E13: Федеральный закон от 02.03.2007 № 25-ФЗ "О муниципальной службе в Российской Федерации" | F13: ст.в целом | G13: 01.06.2007 - не установ | H13: Постановление Совета администрации Красноярского края от 29.12.2007 № 512-п "О нормативах формирования расходов на оплату труда депутатов,выборных долдностных лиц местного самоуправления, осуществляющие свои полномочия на постоянной основе, лиц, замещающих иные муниципальные должности, и муниципальных служащих" | I13: ст.в целом | J13: 01.01.2008 - не установ
B14: Администрация Анцирского сельсовета Канского района Красноярского края | C14: 804 | P14: =P15 -> 1518986 | Q14: =Q15 -> 0 | R14: =R15 -> 0 | S14: =S15 -> 0
A15: 10700 | B15: Расходные обязательства, возникшие в результате принятия нормативных правовых актов муниципального округа, заключения договоров (соглашений) в рамках реализации полномочий органов местного самоуправления муниципального округа по решению вопросов местного значения муниципального округа, всего | C15: 804 | P15: =P16 -> 1518986
A16: 10701, 10702 | B16: материально-техническое и финансовое обеспечение деятельности органов местного самоуправления | C16: 804 | D16: 0104 | E16: Федеральный закон от 06.10.2003 № 131-ФЗ "Об общих принципах организации местного самоуправления в Российской Федерации" | F16: ст.34, пункт 9 ст.53, пункт 2 | G16: 01.01.2009 - не установ | H16: Закон Красноярского края от 24.04.2008 № 5-1565 "Об особенностях правового регулирования муниципальной службы в Красноярском крае" | I16: ст.в целом | J16: 01.07.2008 - не установ | K16: Устав от 14.02.2000 № 16 "Устав Анцирского сельсовета Канского района Красноярского края" | M16: 14.02.2000 - не установ | P16: 1518986
E17: Федеральный закон от 05.03.2025 № 33-ФЗ "Об общих принципах организации местного самоуправления в единой системе публичной власти" | F17: ст. в целом | G17: 45736
E18: Федеральный закон от 02.03.2007 № 25-ФЗ "О муниципальной службе в Российской Федерации" | F18: ст.в целом | G18: 01.06.2007 - не установ | H18: Постановление Совета администрации Красноярского края от 29.12.2007 № 512-п "О нормативах формирования расходов на оплату труда депутатов,выборных долдностных лиц местного самоуправления, осуществляющие свои полномочия на постоянной основе, лиц, замещающих иные муниципальные должности, и муниципальных служащих" | I18: ст.в целом | J18: 01.01.2008 - не установ
B19: Администрация Астафьевского сельсовета Канского района Красноярского края | C19: 807 | P19: =P20 -> 1073694 | Q19: =Q20 -> 0 | R19: =R20 -> 0 | S19: =S20 -> 0
A20: 10700 | B20: Расходные обязательства, возникшие в результате принятия нормативных правовых актов муниципального округа, заключения договоров (соглашений) в рамках реализации полномочий органов местного самоуправления муниципального округа по решению вопросов местного значения муниципального округа, всего | C20: 807 | P20: =P21 -> 1073694
A21: 10701, 10702 | B21: материально-техническое и финансовое обеспечение деятельности органов местного самоуправления | C21: 807 | D21: 0104 | E21: Федеральный закон от 06.10.2003 № 131-ФЗ "Об общих принципах организации местного самоуправления в Российской Федерации" | F21: ст.34, пункт 9 ст.53, пункт 2 | G21: 01.01.2009 - не установ | H21: Закон Красноярского края от 24.04.2008 № 5-1565 "Об особенностях правового регулирования муниципальной службы в Красноярском крае" | I21: ст.в целом | J21: 01.07.2008 - не установ | K21: Устав от 19.11.2001 № 10-4 "Устав Астафьевского сельсовета Канского района Красноярского края" | M21: 19.11.2001 - не установ | P21: 1073694
E22: Федеральный закон от 05.03.2025 № 33-ФЗ "Об общих принципах организации местного самоуправления в единой системе публичной власти" | F22: ст. в целом | G22: 45736
E23: Федеральный закон от 02.03.2007 № 25-ФЗ "О муниципальной службе в Российской Федерации" | F23: ст.в целом | G23: 01.06.2007 - не установ | H23: Постановление Совета администрации Красноярского края от 29.12.2007 № 512-п "О нормативах формирования расходов на оплату труда депутатов,выборных долдностных лиц местного самоуправления, осуществляющие свои полномочия на постоянной основе, лиц, замещающих иные муниципальные должности, и муниципальных служащих" | I23: ст.в целом | J23: 01.01.2008 - не установ
B24: Администрация Большеуринского сельсовета Канского района Красноярского края | C24: 810 | P24: =P25 -> 1139885 | Q24: =Q25 -> 0 | R24: =R25 -> 0 | S24: =S25 -> 0
A25: 10700 | B25: Расходные обязательства, возникшие в результате принятия нормативных правовых актов муниципального округа, заключения договоров (соглашений) в рамках реализации полномочий органов местного самоуправления муниципального округа по решению вопросов местного значения муниципального округа, всего | C25: 810 | P25: =P26 -> 1139885
A26: 10701, 10702 | B26: материально-техническое и финансовое обеспечение деятельности органов местного самоуправления | C26: 810 | D26: 0104 | E26: Федеральный закон от 06.10.2003 № 131-ФЗ "Об общих принципах организации местного самоуправления в Российской Федерации" | F26: ст.34, пункт 9 ст.53, пункт 2 | G26: 01.01.2009 - не установ | H26: Закон Красноярского края от 24.04.2008 № 5-1565 "Об особенностях правового регулирования муниципальной службы в Красноярском крае" | I26: ст.в целом | J26: 01.07.2008 - не установ | K26: Устав от 26.03.2001 № 7 "Устав Болшеуринского сельсовета Канского района Красноярского края" | M26: 26.03.2001 - не установ | P26: 1139885
E27: Федеральный закон от 05.03.2025 № 33-ФЗ "Об общих принципах организации местного самоуправления в единой системе публичной власти" | F27: ст. в целом | G27: 45736
E28: Федеральный закон от 02.03.2007 № 25-ФЗ "О муниципальной службе в Российской Федерации" | F28: ст.в целом | G28: 01.06.2007 - не установ | H28: Постановление Совета администрации Красноярского края от 29.12.2007 № 512-п "О нормативах формирования расходов на оплату труда депутатов,выборных долдностных лиц местного самоуправления, осуществляющие свои полномочия на постоянной основе, лиц, замещающих иные муниципальные должности, и муниципальных служащих" | I28: ст.в целом | J28: 01.01.2008 - не установ
B29: Администрация Браженского сельсовета Канского района Красноярского края | C29: 813 | P29: =P30 -> 1506290 | Q29: =Q30 -> 0 | R29: =R30 -> 0 | S29: =S30 -> 0
A30: 10700 | B30: Расходные обязательства, возникшие в результате принятия нормативных правовых актов муниципального округа, заключения договоров (соглашений) в рамках реализации полномочий органов местного самоуправления муниципального округа по решению вопросов местного значения муниципального округа, всего | C30: 813 | P30: =P31 -> 1506290
A31: 10701, 10702 | B31: материально-техническое и финансовое обеспечение деятельности органов местного самоуправления | C31: 813 | D31: 0104 | E31: Федеральный закон от 06.10.2003 № 131-ФЗ "Об общих принципах организации местного самоуправления в Российской Федерации" | F31: ст.34, пункт 9 ст.53, пункт 2 | G31: 01.01.2009 - не установ | H31: Закон Красноярского края от 24.04.2008 № 5-1565 "Об особенностях правового регулирования муниципальной службы в Красноярском крае" | I31: ст.в целом | J31: 01.07.2008 - не установ | K31: Устав от 22.02.2000 № 1-13 "Устав Браженского сельсовета Канского района Красноярского края"" | M31: 22.02.2000 - не установ | P31: 1506290
E32: Федеральный закон от 05.03.2025 № 33-ФЗ "Об общих принципах организации местного самоуправления в единой системе публичной власти" | F32: ст. в целом | G32: 45736
E33: Федеральный закон от 02.03.2007 № 25-ФЗ "О муниципальной службе в Российской Федерации" | F33: ст.в целом | G33: 01.06.2007 - не установ | H33: Постановление Совета администрации Красноярского края от 29.12.2007 № 512-п "О нормативах формирования расходов на оплату труда депутатов,выборных долдностных лиц местного самоуправления, осуществляющие свои полномочия на постоянной основе, лиц, замещающих иные муниципальные должности, и муниципальных служащих" | I33: ст.в целом | J33: 01.01.2008 - не установ
B34: Администрация Верх-Амонашенского сельсовета Канского района Красноярского края | C34: 816 | P34: =P35 -> 1053771 | Q34: =Q35 -> 0 | R34: =R35 -> 0 | S34: =S35 -> 0
A35: 10700 | B35: Расходные обязательства, возникшие в результате принятия нормативных правовых актов муниципального округа, заключения договоров (соглашений) в рамках реализации полномочий органов местного самоуправления муниципального округа по решению вопросов местного значения муниципального округа, всего | C35: 816 | P35: =P36 -> 1053771
A36: 10701, 10702 | B36: материально-техническое и финансовое обеспечение деятельности органов местного самоуправления | C36: 816 | D36: 0104 | E36: Федеральный закон от 06.10.2003 № 131-ФЗ "Об общих принципах организации местного самоуправления в Российской Федерации" | F36: ст.34, пункт 9 ст.53, пункт 2 | G36: 01.01.2009 - не установ | H36: Закон Красноярского края от 24.04.2008 № 5-1565 "Об особенностях правового регулирования муниципальной службы в Красноярском крае" | I36: ст.в целом | J36: 01.07.2008 - не установ | K36: Устав от 05.10.2000 № 8/2 "Устав Верхамонашенского сельсовета Канского района Красноярского края" | M36: 05.10.2000 - не установ | P36: 1053771
E37: Федеральный закон от 05.03.2025 № 33-ФЗ "Об общих принципах организации местного самоуправления в единой системе публичной власти" | F37: ст. в целом | G37: 45736
E38: Федеральный закон от 02.03.2007 № 25-ФЗ "О муниципальной службе в Российской Федерации" | F38: ст.в целом | G38: 01.06.2007 - не установ | H38: Постановление Совета администрации Красноярского края от 29.12.2007 № 512-п "О нормативах формирования расходов на оплату труда депутатов,выборных долдностных лиц местного самоуправления, осуществляющие свои полномочия на постоянной основе, лиц, замещающих иные муниципальные должности, и муниципальных служащих" | I38: ст.в целом | J38: 01.01.2008 - не установ
B39: Администрация Георгиевского сельсовета Канского района Красноярского края | C39: 819 | P39: =P40 -> 1163604 | Q39: =Q40 -> 0 | R39: =R40 -> 0 | S39: =S40 -> 0
A40: 10700 | B40: Расходные обязательства, возникшие в результате принятия нормативных правовых актов муниципального округа, заключения договоров (соглашений) в рамках реализации полномочий органов местного самоуправления муниципального округа по решению вопросов местного значения муниципального округа, всего | P40: =P41 -> 1163604
A41: 10701, 10702 | B41: материально-техническое и финансовое обеспечение деятельности органов местного самоуправления | C41: 819 | D41: 0104 | E41: Федеральный закон от 06.10.2003 № 131-ФЗ "Об общих принципах организации местного самоуправления в Российской Федерации" | F41: ст.34, пункт 9 ст.53, пункт 2 | G41: 01.01.2009 - не установ | H41: Закон Красноярского края от 24.04.2008 № 5-1565 "Об особенностях правового регулирования муниципальной службы в Красноярском крае" | I41: ст.в целом | J41: 01.07.2008 - не установ | K41: Устав от 11.12.1998 № 30 "Устав Георгиевского сельсовета Канского района Красноярского края" | M41: 11.12.1998 - не установ | P41: 1163604
E42: Федеральный закон от 05.03.2025 № 33-ФЗ "Об общих принципах организации местного самоуправления в единой системе публичной власти" | F42: ст. в целом | G42: 45736
...

Sheet Лист2
A1: 24-118 от 18.12.2017
A3: Отчетный период 2016 год
A5: Код расходного обязательства | B5: Содержание расходного обязательства | C5: Отчетный финансовый год | E5: Текущий (очередной) финансовый год | F5: Плановый период
C6: план | D6: факт | E6: план | F6: план | G6: план | H6: план
A7: 1 | B7: 2 | C7: 3 | D7: 4 | E7: 5 | F7: 6 | G7: 7 | H7: 8
A8: РГ-А | B8: Расходные обязательства, связанные с реализацией вопросов местного значения городских округов и полномочий органов местного самоуправления по решению вопросов местного значения | C8: =SUM(C9:C36) -> #REF! | D8: =SUM(D9:D36) -> #REF! | E8: =SUM(E9:E36) -> #REF! | F8: =SUM(F9:F36) -> #REF! | G8: =SUM(G9:G36) -> #REF! | H8: =SUM(H9:H36) -> #REF!
A9: 2102 | B9: составление и рассмотрение проекта бюджета городского округа, утверждение и исполнение бюджета городского округа, осуществление контроля за его исполнением, составление и утверждение отчета об исполнении бюджета городского округа | C9: =Лист1!#REF!+Лист1!#REF!+Лист1!N350 -> #REF! | D9: =Лист1!#REF!+Лист1!#REF!+Лист1!O350 -> #REF! | E9: =Лист1!#REF!+Лист1!#REF!+Лист1!P350 -> #REF! | F9: =Лист1!#REF!+Лист1!#REF!+Лист1!Q350 -> #REF! | G9: =Лист1!#REF!+Лист1!#REF!+Лист1!R350 -> #REF! | H9: =Лист1!#REF!+Лист1!#REF!+Лист1!S350 -> #REF!
A10: 2104 | B10: владение, пользование и распоряжение имуществом, находящимся в муниципальной собственности городского округа | C10: =Лист1!N175 -> х | D10: =Лист1!O175 -> х | E10: =Лист1!P175 -> 1022000 | F10: =Лист1!Q175 -> 1022000 | G10: =Лист1!R175 -> 1022000 | H10: =Лист1!S175 -> 1022000
A11: 2105 | B11: организация в границах городского округа электро-, тепло-, газо- и водоснабжения населения, водоотведения, снабжения населения топливом в пределах полномочий, установленных законодательством Российской Федерации | C11: =Лист1!N262 -> Х | D11: =Лист1!O262 -> Х | E11: =Лист1!P262 -> 3610000 | F11: =Лист1!Q262 -> 3610000 | G11: =Лист1!R262 -> 2110000 | H11: =Лист1!S262 -> 2110000
A12: 2106 | B12: дорожная деятельность в отношении автомобильных дорог местного значения в границах городского округа и обеспечение безопасности дорожного движения на них, включая создание и обеспечение функционирования парковок (парковочных мест), осуществление муниципального контроля за сохранностью автомобильных дорог местного значения в границах городского округа, а также осуществление иных полномочий в области использования автомобильных дорог и осуществления дорожной деятельности в соответствии с законодательством Российской Федерации | C12: =Лист1!N265 -> Х | D12: =Лист1!O265 -> Х | E12: =Лист1!P265 -> 122560500 | F12: =Лист1!Q265 -> 121137445 | G12: =Лист1!R265 -> 121325558 | H12: =Лист1!S265 -> 121325558
A13: 2107 | B13: обеспечение проживающих в городском округе и нуждающихся в жилых помещениях малоимущих граждан жилыми помещениями, организация строительства и содержания муниципального жилищного фонда, создание условий для жилищного строительства, осуществление муниципального жилищного контроля, а также иных полномочий органов местного самоуправления в соответствии с жилищным законодательством | C13: =Лист1!N268+Лист1!N195+Лист1!N180+Лист1!N126 -> #VALUE! | D13: =Лист1!O268+Лист1!O195+Лист1!O180+Лист1!O126 -> #VALUE! | E13: =Лист1!P268+Лист1!P195+Лист1!P180+Лист1!P126 -> 58012051 | F13: =Лист1!Q268+Лист1!Q195+Лист1!Q180+Лист1!Q126 -> 2.7581544e+08 | G13: =Лист1!R268+Лист1!R195+Лист1!R180+Лист1!R126 -> 9407772 | H13: =Лист1!S268+Лист1!S195+Лист1!S180+Лист1!S126 -> 9407772
A14: 2108 | B14: создание условий для предоставления транспортных услуг населению и организация транспортного обслуживания населения в границах городского округа | C14: =Лист1!N270 -> Х | D14: =Лист1!O270 -> Х | E14: =Лист1!P270 -> 137367620 | F14: =Лист1!Q270 -> 1.2515759e+08 | G14: =Лист1!R270 -> 1.2669935e+08 | H14: =Лист1!S270 -> 1.2669935e+08
A15: 2111 | B15: участие в предупреждении и ликвидации последствий чрезвычайных ситуаций в границах городского округа | C15: =Лист1!N206 -> х | D15: =Лист1!O206 -> х | E15: =Лист1!P206 -> 57366961 | F15: =Лист1!Q206 -> 57366961 | G15: =Лист1!R206 -> 57366961 | H15: =Лист1!S206 -> 57366961
A16: 2115 | B16: обеспечение первичных мер пожарной безопасности в границах городского округа | C16: =Лист1!N210 -> х | D16: =Лист1!O210 -> х | E16: =Лист1!P210 -> 138500 | F16: =Лист1!Q210 -> 138500 | G16: =Лист1!R210 -> 138500 | H16: =Лист1!S210 -> 138500
A17: 2117 | B17: организация предоставления общедоступного и бесплатного дошкольного, начального общего, основного общего, среднего общего образования по основным общеобразовательным программам в муниципальных образовательных организациях (за исключением полномочий по финансовому обеспечению реализации основных общеобразовательных программ в соответствии с федеральными государственными образовательными стандартами), организация предоставления дополнительного образования детей в муниципальных образовательных организациях (за исключением дополнительного образования детей, финансовое обеспечение которого осуществляется органами государственной власти субъекта Российской Федерации), создание условий для осуществления присмотра и ухода за детьми, содержания детей в муниципальных образовательных организациях, а также организация отдыха детей в каникулярное время | C17: =Лист1!N218+Лист1!N310 -> #VALUE! | D17: =Лист1!O218+Лист1!O310 -> #VALUE! | E17: =Лист1!P218+Лист1!P310 -> 1.227297e+09 | F17: =Лист1!Q218+Лист1!Q310 -> 1.097056e+09 | G17: =Лист1!R218+Лист1!R310 -> 1.0444957e+09 | H17: =Лист1!S218+Лист1!S310 -> 1.0444957e+09
A18: 2119 | B18: создание условий для обеспечения жителей городского округа услугами связи, общественного питания, торговли и бытового обслуживания | C18: =Лист1!#REF! -> #REF! | D18: =Лист1!#REF! -> #REF! | E18: =Лист1!#REF! -> #REF! | F18: =Лист1!#REF! -> #REF! | G18: =Лист1!#REF! -> #REF! | H18: =Лист1!#REF! -> #REF!
A19: 2120 | B19: организация библиотечного обслуживания населения, комплектование и обеспечение сохранности библиотечных фондов библиотек городского округа | C19: =Лист1!N313 -> Х | D19: =Лист1!O313 -> Х | E19: =Лист1!P313 -> 148759842 | F19: =Лист1!Q313 -> 253291797 | G19: =Лист1!R313 -> 110347297 | H19: =Лист1!S313 -> 110347297
A20: 2121 | B20: создание условий для организации досуга и обеспечения жителей городского округа услугами организаций культуры | C20: =Лист1!N318 -> Х | D20: =Лист1!O318 -> Х | E20: =Лист1!P318 -> 2.9871721e+08 | F20: =Лист1!Q318 -> 2.4811935e+08 | G20: =Лист1!R318 -> 2.4364476e+08 | H20: =Лист1!S318 -> 2.4364476e+08
A21: 2124 | B21: обеспечение условий для развития на территории городского округа физической культуры и массового спорта, организация проведения официальных физкультурно-оздоровительных и спортивных мероприятий городского округа | C21: =Лист1!N297+Лист1!#REF! -> #VALUE! | D21: =Лист1!O297+Лист1!#REF! -> #VALUE! | E21: =Лист1!P297+Лист1!#REF! -> #REF! | F21: =Лист1!Q297+Лист1!#REF! -> #REF! | G21: =Лист1!R297+Лист1!#REF! -> #REF! | H21: =Лист1!S297+Лист1!#REF! -> #REF!
A22: 2125 | B22: создание условий для массового отдыха жителей городского округа и организация обустройства мест массового отдыха населения | C22: =Лист1!N272 -> Х | D22: =Лист1!O272 -> Х | E22: =Лист1!P272 -> 42990 | F22: =Лист1!Q272 -> 42990 | G22: =Лист1!R272 -> 42990 | H22: =Лист1!S272 -> 42990
A23: 2126 | B23: формирование и содержание муниципального архива | C23: =Лист1!N134 -> х | D23: =Лист1!O134 -> х | E23: =Лист1!P134 -> 8486637 | F23: =Лист1!Q134 -> 8486637 | G23: =Лист1!R134 -> 8486637 | H23: =Лист1!S134 -> 8486637
A24: 2127 | B24: организация ритуальных услуг и содержание мест захоронения | C24: =Лист1!N275 -> Х | D24: =Лист1!O275 -> Х | E24: =Лист1!P275 -> 7475100 | F24: =Лист1!Q275 -> 7475100 | G24: =Лист1!R275 -> 7475100 | H24: =Лист1!S275 -> 7475100
A25: 2128 | B25: организация сбора, вывоза, утилизации и переработки бытовых и промышленных отходов | C25: =Лист1!N278 -> Х | D25: =Лист1!O278 -> Х | E25: =Лист1!P278 -> 124000 | F25: =Лист1!Q278 -> 124000 | G25: =Лист1!R278 -> 124000 | H25: =Лист1!S278 -> 124000
A26: 2129 | B26: утверждение правил благоустройства территории городского округа, устанавливающих в том числе требования по содержанию зданий (включая жилые дома), сооружений и земельных участков, на которых они расположены, к внешнему виду фасадов и ограждений соответствующих зданий и сооружений, перечень работ по благоустройству и периодичность их выполнения; установление порядка участия собственников зданий (помещений в них) и сооружений в благоустройстве прилегающих территорий; организация благоустройства территории городского округа (включая освещение улиц, озеленение территории, установку указателей с наименованиями улиц и номерами домов, размещение и содержание малых архитектурных форм), а также использования, охраны, защиты, воспроизводства городских лесов, лесов особо охраняемых природных территорий, расположенных в границах городского округа | C26: =Лист1!N282 -> Х | D26: =Лист1!O282 -> Х | E26: =Лист1!P282 -> 2.0483754e+08 | F26: =Лист1!Q282 -> 1.0234979e+08 | G26: =Лист1!R282 -> 76372267 | H26: =Лист1!S282 -> 76372267
A27: 2130 | B27: утверждение генеральных планов ГО, правил землепользования и застройки, утверждение подготовленной на основе генеральных планов ГО документации по планировке территории, выдача разрешений на строительство (за исключением случаев, предусмотренных Градостр. кодексом РФ, иными ФЗ), разрешений на ввод объектов в эксплуатацию при осуществлении строительства, реконструкции объектов капитального строительства, расположенных на территории городского округа, утверждение местных нормативов градостроительного проектирования ГО, ведение информационной системы обеспечения градостроительной деятельности, осуществляемой на территории ГО, резервирование земель и изъятие, в том числе путем выкупа, земельных участков в границах ГО для муниципальных нужд, осуществление муниципального земельного контроля в границах ГО, осуществление в случаях, предусмотренных Градостр. кодексом РФ, осмотров зданий, сооружений и выдача рекомендаций об устранении выявленных в ходе таких осмотров нарушений | C27: =Лист1!N182+Лист1!N335 -> #VALUE! | D27: =Лист1!O182+Лист1!O335 -> #VALUE! | E27: =Лист1!P182+Лист1!P335 -> 1363000 | F27: =Лист1!Q182+Лист1!Q335 -> 1363000 | G27: =Лист1!R182+Лист1!R335 -> 1363000 | H27: =Лист1!S182+Лист1!S335 -> 1363000
A28: 2131 | B28: утверждение схемы размещения рекламных конструкций, выдача размещений на установку и эксплуатацию рекламных конструкций на территории городского округа | C28: =Лист1!N337 -> Х | D28: =Лист1!O337 -> Х | E28: =Лист1!P337 -> 300000 | F28: =Лист1!Q337 -> 300000 | G28: =Лист1!R337 -> 300000 | H28: =Лист1!S337 -> 300000
A29: 2138 | B29: создание условий для расширения рынка сельскохозяйственной продукции, сырья и продовольствия, содействие развитию малого и среднего предпринимательства, оказание поддержки социально ориентированным некоммерческим организациям, благотворительной деятельности и добровольчеству | C29: =Лист1!#REF!+Лист1!N136 -> #REF! | D29: =Лист1!#REF!+Лист1!O136 -> #REF! | E29: =Лист1!#REF!+Лист1!P136 -> #REF! | F29: =Лист1!#REF!+Лист1!Q136 -> #REF! | G29: =Лист1!#REF!+Лист1!R136 -> #REF! | H29: =Лист1!#REF!+Лист1!S136 -> #REF!
A30: 2139 | B30: организация и осуществление мероприятий по работе с детьми и молодежью в городском округе | C30: =Лист1!#REF! -> #REF! | D30: =Лист1!#REF! -> #REF! | E30: =Лист1!#REF! -> #REF! | F30: =Лист1!#REF! -> #REF! | G30: =Лист1!#REF! -> #REF! | H30: =Лист1!#REF! -> #REF!
A31: 2141 | B31: =Лист1!B157 -> поддержка деятельности некоммерческих организаций, за исключением социально ориентированных организаций | C31: =Лист1!N157 -> х | D31: =Лист1!O157 -> х | E31: =Лист1!P157 -> 948660 | F31: =Лист1!Q157 -> 948660 | G31: =Лист1!R157 -> 948660 | H31: =Лист1!S157 -> 948660
A32: 2201 | B32: =Лист1!B146 -> материально-техническое и финансовое обеспечение деятельности органов местного самоуправления | C32: =Лист1!N146+Лист1!N241+Лист1!#REF!+Лист1!N286+Лист1!N305+Лист1!N325+Лист1!N340+Лист1!N345 -> #VALUE! | D32: =Лист1!O146+Лист1!O241+Лист1!#REF!+Лист1!O286+Лист1!O305+Лист1!O325+Лист1!O340+Лист1!O345 -> #VALUE! | E32: =Лист1!P146+Лист1!P241+Лист1!#REF!+Лист1!P286+Лист1!P305+Лист1!P325+Лист1!P340+Лист1!P345 -> #REF! | F32: =Лист1!Q146+Лист1!Q241+Лист1!#REF!+Лист1!Q286+Лист1!Q305+Лист1!Q325+Лист1!Q340+Лист1!Q345 -> #REF! | G32: =Лист1!R146+Лист1!R241+Лист1!#REF!+Лист1!R286+Лист1!R305+Лист1!R325+Лист1!R340+Лист1!R345 -> #REF! | H32: =Лист1!S146+Лист1!S241+Лист1!#REF!+Лист1!S286+Лист1!S305+Лист1!S325+Лист1!S340+Лист1!S345 -> #REF!
A33: 2202 | B33: расходы на обслуживание муниципального долга | C33: =Лист1!N202 -> Х | D33: =Лист1!O202 -> Х | E33: =Лист1!P202 -> 21977 | F33: =Лист1!Q202 -> 20000 | G33: =Лист1!R202 -> 10000 | H33: =Лист1!S202 -> 10000
A34: 2206 | B34: создание муниципальных учреждений, осуществление финансового обеспечения деятельности муниципальных казенных учреждений и финансового обеспечения выполнения муниципального задания бюджетными и автономными муниципальными учреждениями, а также осуществление закупок товаров, работ, услуг для обеспечения муниципальных нужд | C34: =Лист1!N149+Лист1!#REF!+Лист1!N289+Лист1!#REF! -> #VALUE! | D34: =Лист1!O149+Лист1!#REF!+Лист1!O289+Лист1!#REF! -> #VALUE! | E34: =Лист1!P149+Лист1!#REF!+Лист1!P289+Лист1!#REF! -> #REF! | F34: =Лист1!Q149+Лист1!#REF!+Лист1!Q289+Лист1!#REF! -> #REF! | G34: =Лист1!R149+Лист1!#REF!+Лист1!R289+Лист1!#REF! -> #REF! | H34: =Лист1!S149+Лист1!#REF!+Лист1!S289+Лист1!#REF! -> #REF!
A35: 2211 | B35: организационное и материально-техническое обеспечение подготовки и проведения муниципальных выборов, местного референдума, голосования по отзыву депутата, члена выборного органа местного самоуправления, выборного должностного лица местного самоуправления, голосования по вопросам изменения границ муниципального образования, преобразования муниципального образования | C35: =Лист1!#REF! -> #REF! | D35: =Лист1!#REF! -> #REF! | E35: =Лист1!#REF! -> #REF! | F35: =Лист1!#REF! -> #REF! | G35: =Лист1!#REF! -> #REF! | H35: =Лист1!#REF! -> #REF!
A36: 2218 | B36: Дополнительные гарантии муниципальным служащим в виде ежемесячных доплат к трудовой пенсии, пенсии за выслугу лет | C36: =Лист1!#REF! -> #REF! | D36: =Лист1!#REF! -> #REF! | E36: =Лист1!#REF! -> #REF! | F36: =Лист1!#REF! -> #REF! | G36: =Лист1!#REF! -> #REF! | H36: =Лист1!#REF! -> #REF!
A37: РГ-В | B37: Расходные обязательства, возникшие в результате реализации органами местного самоуправления городского округа делегированных полномочий за счет субвенций, переданных из других бюджетов бюджетной системы Российской Федерации | C37: =SUM(C38:C47) -> #REF! | D37: =SUM(D38:D47) -> #REF! | E37: =SUM(E38:E47) -> #REF! | F37: =SUM(F38:F47) -> #REF! | G37: =SUM(G38:G47) -> #REF! | H37: =SUM(H38:H47) -> #REF!
A38: 2603 | B38: по составлению списков кандидатов в присяжные заседатели | C38: =Лист1!#REF! -> #REF! | D38: =Лист1!#REF! -> #REF! | E38: =Лист1!#REF! -> #REF! | F38: =Лист1!#REF! -> #REF! | G38: =Лист1!#REF! -> #REF! | H38: =Лист1!#REF! -> #REF!
A39: 2605 | B39: на формирование и содержание архивных фондов субъекта Российской Федерации | C39: =Лист1!N162 -> х | D39: =Лист1!O162 -> х | E39: =Лист1!P162 -> 847500 | F39: =Лист1!Q162 -> 847500 | G39: =Лист1!R162 -> 847500 | H39: =Лист1!S162 -> 847500
A40: 2622 | B40: обеспечение государственных гарантий реализации прав на получение общедоступного и бесплатного дошкольного образования в муниципальных дошкольных образовательных организациях, общедоступного и бесплатного дошкольного, начального общего, основного общего, среднего общего образования в муниципальных общеобразовательных организациях, обеспечение дополнительного образования детей в муниципальных общеобразовательных организациях, включая расходы на оплату, приобретение учебников и учебных пособий, средств обучения, игр, игрушек (за исключением расходов на содержание зданий и оплату коммунальных услуг), в соответствии с нормативами, определенными органами государственной власти субъектов РФ. | C40: =Лист1!#REF!+Лист1!N247+Лист1!N250+Лист1!#REF! -> #REF! | D40: =Лист1!#REF!+Лист1!O247+Лист1!O250+Лист1!#REF! -> #REF! | E40: =Лист1!#REF!+Лист1!P247+Лист1!P250+Лист1!#REF! -> #REF! | F40: =Лист1!#REF!+Лист1!Q247+Лист1!Q250+Лист1!#REF! -> #REF! | G40: =Лист1!#REF!+Лист1!R247+Лист1!R250+Лист1!#REF! -> #REF! | H40: =Лист1!#REF!+Лист1!S247+Лист1!S250+Лист1!#REF! -> #REF!
A41: 2628 | B41: на обеспечение детей-сирот и детей, оставшихся без попечения родителей, лиц из числа детей-сирот и детей, оставшихся без попечения родителей, жилыми помещениями | C41: =Лист1!N191 -> х | D41: =Лист1!O191 -> х | E41: =Лист1!P191 -> 144080900 | F41: =Лист1!Q191 -> 137330700 | G41: =Лист1!R191 -> 129452900 | H41: =Лист1!S191 -> 129452900
A42: 2640 | B42: на социальную поддержку и социальное обслуживание граждан пожилого возраста и инвалидов, граждан, находящихся в трудной жизненной ситуации, а также детей - сирот, безнадзорных детей, детей, оставшихся без попечения родителей (за исключением детей, обучающихся в федеральных образовательных учреждениях), социальную поддержку ветеранов труда, лиц, проработавших в тылу в период Великой Отечественной войны 1941-1945 годов, семей, имеющих детей (в том числе многодетных семей, одиноких родителей), жертв политических репрессий, малоимущих граждан, в том числе за счет предоставления субвенций местным бюджетам для выплаты пособий на оплату презда на общественном транспорте, иных социальных пособий, а также для возмещения расходов муниципальных образований в связи с представлением законами субъекта РФ льгот отдельным категориям граждан, в том числе льгот по оплате услуг связи, организацию предоставления гражданам субсидий на оплату жилых помещений и коммунальных услуг | C42: =Лист1!N249+Лист1!#REF!+Лист1!#REF!+Лист1!#REF! -> #VALUE! | D42: =Лист1!O249+Лист1!#REF!+Лист1!#REF!+Лист1!#REF! -> #VALUE! | E42: =Лист1!P249+Лист1!#REF!+Лист1!#REF!+Лист1!#REF! -> #REF! | F42: =Лист1!Q249+Лист1!#REF!+Лист1!#REF!+Лист1!#REF! -> #REF! | G42: =Лист1!R249+Лист1!#REF!+Лист1!#REF!+Лист1!#REF! -> #REF! | H42: =Лист1!S249+Лист1!#REF!+Лист1!#REF!+Лист1!#REF! -> #REF!
...

Sheet Лист3
C4: 3.4043614e+09 | D4: 3.3396367e+09 | E4: 3.2438836e+09
C5: 277972200 | D5: 277972200 | E5: 277972200
C6: 570200 | D6: 570200 | E6: 570200
C7: 506215200 | D7: 506215200 | E7: 506215200
C8: 239690900 | D8: 239690900 | E8: 239690900
C9: 9.8594551e+08 | D9: 9.7603291e+08 | E9: 9.7603291e+08
C10: 41585000 | D10: 41585000 | E10: 41585000
C12: 71227424 | D12: 68249724 | E12: 25056824
C13: 48232989 | D13: 48232989 | E13: 48232989
C14: 31693200 | D14: 31693200 | E14: 31693200
C16: 23097653 | D16: 23097653 | E16: 23097653
C17: 111563576 | D17: 111563576 | E17: 111563576
... C19: 2459400 | D19: 2459400 | E19: 2459400
C20: =SUM(C5:C19) -> 2.3655694e+09 | D20: =SUM(D5:D19) -> 2.3526791e+09 | E20: =SUM(E5:E19) -> 2.3094862e+09
C22: =C4-C20 -> 1.038792e+09 | D22: =D4-D20 -> 9.8695765e+08 | E22: =E4-E20 -> 9.3439743e+08
